BEGIN:VCALENDAR
VERSION:2.0
PRODID:-//ISSPP e.V. - ECPv6.15.20//NONSGML v1.0//EN
CALSCALE:GREGORIAN
METHOD:PUBLISH
X-ORIGINAL-URL:https://isspp.org
X-WR-CALDESC:Events for ISSPP e.V.
REFRESH-INTERVAL;VALUE=DURATION:PT1H
X-Robots-Tag:noindex
X-PUBLISHED-TTL:PT1H
BEGIN:VTIMEZONE
TZID:Europe/London
BEGIN:DAYLIGHT
TZOFFSETFROM:+0000
TZOFFSETTO:+0100
TZNAME:BST
DTSTART:20240331T010000
END:DAYLIGHT
BEGIN:STANDARD
TZOFFSETFROM:+0100
TZOFFSETTO:+0000
TZNAME:GMT
DTSTART:20241027T010000
END:STANDARD
BEGIN:DAYLIGHT
TZOFFSETFROM:+0000
TZOFFSETTO:+0100
TZNAME:BST
DTSTART:20250330T010000
END:DAYLIGHT
BEGIN:STANDARD
TZOFFSETFROM:+0100
TZOFFSETTO:+0000
TZNAME:GMT
DTSTART:20251026T010000
END:STANDARD
BEGIN:DAYLIGHT
TZOFFSETFROM:+0000
TZOFFSETTO:+0100
TZNAME:BST
DTSTART:20260329T010000
END:DAYLIGHT
BEGIN:STANDARD
TZOFFSETFROM:+0100
TZOFFSETTO:+0000
TZNAME:GMT
DTSTART:20261025T010000
END:STANDARD
END:VTIMEZONE
BEGIN:VEVENT
DTSTART;TZID=Europe/London:20251029T080000
DTEND;TZID=Europe/London:20251031T170000
DTSTAMP:20260421T111819
CREATED:20250212T174616Z
LAST-MODIFIED:20250212T180438Z
UID:4155-1761724800-1761930000@isspp.org
SUMMARY:PSOGI Barcelona 2025\, October 29-31th
DESCRIPTION:The 15th PSOGI International Congress on Peritoneal Surface Malignancies with upcoming courses and conferences in 2025. \n\n\n\nPlease also click on the attached PDF for more information \n\n\n\nIn collaboration with the ISSPP and many other societies. \n\n\npsogi-barcelona-2025
URL:https://isspp.org/event/psogi-barcelona-2025-october-29-31th/
CATEGORIES:congress,course
ATTACH;FMTTYPE=image/jpeg:https://isspp.org/wp-content/uploads/2025/02/psogi-barcelona-2025.jpg
END:VEVENT
END:VCALENDAR