BEGIN:VCALENDAR
VERSION:2.0
PRODID:-//ISSPP e.V. - ECPv6.15.20//NONSGML v1.0//EN
CALSCALE:GREGORIAN
METHOD:PUBLISH
X-ORIGINAL-URL:https://isspp.org
X-WR-CALDESC:Events for ISSPP e.V.
REFRESH-INTERVAL;VALUE=DURATION:PT1H
X-Robots-Tag:noindex
X-PUBLISHED-TTL:PT1H
BEGIN:VTIMEZONE
TZID:Europe/London
BEGIN:DAYLIGHT
TZOFFSETFROM:+0000
TZOFFSETTO:+0100
TZNAME:BST
DTSTART:20230326T010000
END:DAYLIGHT
BEGIN:STANDARD
TZOFFSETFROM:+0100
TZOFFSETTO:+0000
TZNAME:GMT
DTSTART:20231029T010000
END:STANDARD
BEGIN:DAYLIGHT
TZOFFSETFROM:+0000
TZOFFSETTO:+0100
TZNAME:BST
DTSTART:20240331T010000
END:DAYLIGHT
BEGIN:STANDARD
TZOFFSETFROM:+0100
TZOFFSETTO:+0000
TZNAME:GMT
DTSTART:20241027T010000
END:STANDARD
BEGIN:DAYLIGHT
TZOFFSETFROM:+0000
TZOFFSETTO:+0100
TZNAME:BST
DTSTART:20250330T010000
END:DAYLIGHT
BEGIN:STANDARD
TZOFFSETFROM:+0100
TZOFFSETTO:+0000
TZNAME:GMT
DTSTART:20251026T010000
END:STANDARD
END:VTIMEZONE
BEGIN:VEVENT
DTSTART;TZID=Europe/London:20240926T083000
DTEND;TZID=Europe/London:20240928T180000
DTSTAMP:20260425T165035
CREATED:20240612T141121Z
LAST-MODIFIED:20240923T100726Z
UID:3741-1727339400-1727546400@isspp.org
SUMMARY:14th International congress - Peritoneal Surface Malignancies
DESCRIPTION:ISSPP Meeting 2024 joint with PSOGI\n\n\n\nIt is with great honour and excitement that we welcome you to the first ISSPP-PSOGI joint congress on peritoneal surface malignancies. At a time when medical research and clinical practice are experiencing unprecedented progress. \n\n\n\nWe believe … it is crucial to come together to share our knowledge\, experiences\, and insights on peritoneal diseases. \n\n\n\nWe promise … a congress that provides an invaluable opportunity to foster collaboration\, stimulate innovation\, and highlight the latest developments in the field of peritoneal surface malignancies. \n\n\n\nThe program includes multi-disciplinary sessions\, case presentations\, challenging debates\, topics\, and visual abstracts (posters) presentations\, all designed to facilitate the exchange of knowledge\, mutual learning\, and professional growth.An opportunity to exchange ideas and drive discussions that will advance our multidisciplinary understanding of these diseases and help us develop more effective and appropriate approaches to diagnosis\, treatment\, and management. \n\n\n\nWe welcome … worldwide-renowned experts\, leading clinicians\, cutting-edge researchers\, and healthcare professionals who work tirelessly to improve the lives of patients with peritoneal diseases to share their experiences and knowledge. \n\n\n\nWe aim … to share of scientific data and create new networks\, foster fruitful collaborations\, and strengthen bonds among our medical and scientific communities. Together\, we are stronger to address the challenges posed by peritoneal surface malignancies. \n\n\n\nBeyond knowledge\, we must keep in mind the profound impact these diseases have on the lives of patients and their loved ones. We have a goal to improve the quality of life for those sufferingfrom peritoneal diseases by developing more precise\, less invasive\, and more effective approaches to diagnosis and treatment. \n\n\n\nWe request … that you ask questions\, share your ideas\, and connect with your colleagues from around the world\, your active participation will make this first joint meeting ISSPP-PSOGI an outstanding event. \n\n\n\nWe wish … to give you a fruitful congress\, deep discussions\, and a memorable stay in the beautiful city of Lyon. \n\n\n\nThank you for being there and contributing to the success of this congress… \n\n\n\nLaurent VilleneuveISSPP president. \n\n\n\nProgramm: https://www.psogi-isspp2024.com/programme
URL:https://isspp.org/event/14th-international-congress-peritoneal-surface-malignancies/
LOCATION:Place de la Bourse\, Lyon\, Place de la Bourse\, Lyon\, 69002\, France
CATEGORIES:congress
ATTACH;FMTTYPE=image/png:https://isspp.org/wp-content/uploads/2024/06/14th-international-congress-peritoneal-surface-malignanacies-2024-kl.png
END:VEVENT
BEGIN:VEVENT
DTSTART;TZID=Europe/London:20240929T100000
DTEND;TZID=Europe/London:20240930T173000
DTSTAMP:20260425T165035
CREATED:20240827T140233Z
LAST-MODIFIED:20240923T100751Z
UID:3810-1727604000-1727717400@isspp.org
SUMMARY:Lausanne Forum on Peritoneal Cancer Treatments
DESCRIPTION:lausanne-forum-symposium-Periteoneal-Cancer
URL:https://isspp.org/event/lausanne-forum-on-peritoneal-cancer-treatments/
LOCATION:Centre Hospitalier Universitaire Vaudois (CHUV)\, Rue du Bugnon 46\, Lausanne\, 1011\, Switzerland
CATEGORIES:congress,course
ATTACH;FMTTYPE=image/jpeg:https://isspp.org/wp-content/uploads/2024/08/lausanne-forum-oeritoneal-cancer-treatments-2024.jpg
END:VEVENT
END:VCALENDAR