BEGIN:VCALENDAR
VERSION:2.0
PRODID:-//ISSPP e.V. - ECPv6.15.20//NONSGML v1.0//EN
CALSCALE:GREGORIAN
METHOD:PUBLISH
X-WR-CALNAME:ISSPP e.V.
X-ORIGINAL-URL:https://isspp.org
X-WR-CALDESC:Events for ISSPP e.V.
REFRESH-INTERVAL;VALUE=DURATION:PT1H
X-Robots-Tag:noindex
X-PUBLISHED-TTL:PT1H
BEGIN:VTIMEZONE
TZID:Europe/London
BEGIN:DAYLIGHT
TZOFFSETFROM:+0000
TZOFFSETTO:+0100
TZNAME:BST
DTSTART:20200329T010000
END:DAYLIGHT
BEGIN:STANDARD
TZOFFSETFROM:+0100
TZOFFSETTO:+0000
TZNAME:GMT
DTSTART:20201025T010000
END:STANDARD
BEGIN:DAYLIGHT
TZOFFSETFROM:+0000
TZOFFSETTO:+0100
TZNAME:BST
DTSTART:20210328T010000
END:DAYLIGHT
BEGIN:STANDARD
TZOFFSETFROM:+0100
TZOFFSETTO:+0000
TZNAME:GMT
DTSTART:20211031T010000
END:STANDARD
BEGIN:DAYLIGHT
TZOFFSETFROM:+0000
TZOFFSETTO:+0100
TZNAME:BST
DTSTART:20220327T010000
END:DAYLIGHT
BEGIN:STANDARD
TZOFFSETFROM:+0100
TZOFFSETTO:+0000
TZNAME:GMT
DTSTART:20221030T010000
END:STANDARD
END:VTIMEZONE
BEGIN:VEVENT
DTSTART;VALUE=DATE:20210901
DTEND;VALUE=DATE:20210903
DTSTAMP:20260423T094228
CREATED:20201204T103016Z
LAST-MODIFIED:20210630T095133Z
UID:2346-1630454400-1630627199@isspp.org
SUMMARY:PIPAC training course in Lausanne\, Switzerland\, on Sep 1st-2nd\, 2021
DESCRIPTION:The Dept. of General and Gastrointestinal surgery\, University of Lausanne\, Switzerland\, will organize a PIPAC training course on Sep 1st-2nd\, 2021. The course was first scheduled in June but was postponed because of the Covid pandemic. The Lausanne PIPAC course is certified by ISSPP and will be hosted by Prof. Martin Hübner and his team. Objectives are to learn the indications\, the technique\, and the occupational safety aspects of the procedure. There will be dry lab and live surgeries. At the end of the course\, participants will be able to start a PIPAC program at their own institution. \nMore information on this website soon. For inscription please contact martin.hubner@chuv.ch \n			\n				Download PIPAC Workshop\n			\n				\n				\n				\n				\n				PIPAC-workshop-lausanne-sep-2021
URL:https://isspp.org/event/pipac-training-course-in-lausanne-switzerland-on-june-16-17th-2021/
LOCATION:Centre Hospitalier Universitaire Vaudois (CHUV)\, Rue du Bugnon 46\, Lausanne\, 1011\, Switzerland
CATEGORIES:course
ATTACH;FMTTYPE=image/jpeg:https://isspp.org/wp-content/uploads/2020/12/AdobeStock_63182868-scaled-e1607081754940.jpeg
END:VEVENT
END:VCALENDAR