BEGIN:VCALENDAR
VERSION:2.0
PRODID:-//ISSPP e.V. - ECPv6.15.20//NONSGML v1.0//EN
CALSCALE:GREGORIAN
METHOD:PUBLISH
X-ORIGINAL-URL:https://isspp.org
X-WR-CALDESC:Events for ISSPP e.V.
REFRESH-INTERVAL;VALUE=DURATION:PT1H
X-Robots-Tag:noindex
X-PUBLISHED-TTL:PT1H
BEGIN:VTIMEZONE
TZID:Asia/Jerusalem
BEGIN:DAYLIGHT
TZOFFSETFROM:+0200
TZOFFSETTO:+0300
TZNAME:IDT
DTSTART:20200327T000000
END:DAYLIGHT
BEGIN:STANDARD
TZOFFSETFROM:+0300
TZOFFSETTO:+0200
TZNAME:IST
DTSTART:20201024T230000
END:STANDARD
BEGIN:DAYLIGHT
TZOFFSETFROM:+0200
TZOFFSETTO:+0300
TZNAME:IDT
DTSTART:20210326T000000
END:DAYLIGHT
BEGIN:STANDARD
TZOFFSETFROM:+0300
TZOFFSETTO:+0200
TZNAME:IST
DTSTART:20211030T230000
END:STANDARD
BEGIN:DAYLIGHT
TZOFFSETFROM:+0200
TZOFFSETTO:+0300
TZNAME:IDT
DTSTART:20220325T000000
END:DAYLIGHT
BEGIN:STANDARD
TZOFFSETFROM:+0300
TZOFFSETTO:+0200
TZNAME:IST
DTSTART:20221029T230000
END:STANDARD
END:VTIMEZONE
BEGIN:VEVENT
DTSTART;VALUE=DATE:20211020
DTEND;VALUE=DATE:20211023
DTSTAMP:20260421T143421
CREATED:20210830T101728Z
LAST-MODIFIED:20211007T165326Z
UID:3285-1634688000-1634947199@isspp.org
SUMMARY:First PIPAC training course in Israel on Oct. 20-22nd\, 2021
DESCRIPTION:Prof. Aviram Nissan\, MD and Dr. Almog Ben-Yaacov MD organize the first PIPAC training course in Israel on Oct. 20-22nd\, 2021.  Objectives are to learn the indications\, the technique\, and the occupational safety aspects of the procedure. There will be dry lab training and live demonstrations at the OR. At the end of the course\, the participants will be able to start a PIPAC program at their own institution.Professor Marc Pocard\, Sorbonne University Paris\, France\, Prof. Martin Hübner\, University Hospital Lausanne\, Switzerland and Prof. Marc Reymond\, National Center for Pleura and Peritoneum\, Tübingen\, Germany are part of the invited faculty. \nThe course is certified by ISSPP. The provisional program can be found below.  More information will be available on our website soon.  For inscription\, please contact Dr. Ben-Yaacov\, Almog.BenYaacov@sheba.health.gov.il. \nLink for Registration \nPIPAC course Sheba Medical Center (002) \nPIPAC course Sheba Medical Center (002)
URL:https://isspp.org/event/first-pipac-training-course-in-israel-on-oct-20-22nd-2021/
LOCATION:Sheba Medical Center\, Tel-Hashomer\, Israel
CATEGORIES:course
ATTACH;FMTTYPE=image/jpeg:https://isspp.org/wp-content/uploads/2021/08/AdobeStock_79706805-scaled-e1630318066406.jpeg
END:VEVENT
END:VCALENDAR