BEGIN:VCALENDAR
VERSION:2.0
PRODID:-//ISSPP e.V. - ECPv6.15.20//NONSGML v1.0//EN
CALSCALE:GREGORIAN
METHOD:PUBLISH
X-ORIGINAL-URL:https://isspp.org
X-WR-CALDESC:Events for ISSPP e.V.
REFRESH-INTERVAL;VALUE=DURATION:PT1H
X-Robots-Tag:noindex
X-PUBLISHED-TTL:PT1H
BEGIN:VTIMEZONE
TZID:Europe/London
BEGIN:DAYLIGHT
TZOFFSETFROM:+0000
TZOFFSETTO:+0100
TZNAME:BST
DTSTART:20220327T010000
END:DAYLIGHT
BEGIN:STANDARD
TZOFFSETFROM:+0100
TZOFFSETTO:+0000
TZNAME:GMT
DTSTART:20221030T010000
END:STANDARD
BEGIN:DAYLIGHT
TZOFFSETFROM:+0000
TZOFFSETTO:+0100
TZNAME:BST
DTSTART:20230326T010000
END:DAYLIGHT
BEGIN:STANDARD
TZOFFSETFROM:+0100
TZOFFSETTO:+0000
TZNAME:GMT
DTSTART:20231029T010000
END:STANDARD
BEGIN:DAYLIGHT
TZOFFSETFROM:+0000
TZOFFSETTO:+0100
TZNAME:BST
DTSTART:20240331T010000
END:DAYLIGHT
BEGIN:STANDARD
TZOFFSETFROM:+0100
TZOFFSETTO:+0000
TZNAME:GMT
DTSTART:20241027T010000
END:STANDARD
END:VTIMEZONE
BEGIN:VEVENT
DTSTART;TZID=Europe/London:20231101T050000
DTEND;TZID=Europe/London:20231101T053000
DTSTAMP:20260421T175516
CREATED:20230821T124854Z
LAST-MODIFIED:20230821T124855Z
UID:3688-1698814800-1698816600@isspp.org
SUMMARY:PIPAC course in Merida Mexico
DESCRIPTION:flyer-PIPAC-LATAMDownload
URL:https://isspp.org/event/pipac-course-in-merida-mexico/
CATEGORIES:course
ATTACH;FMTTYPE=image/jpeg:https://isspp.org/wp-content/uploads/2023/08/flyer-PIPAC-LATAM-1080x608-1.jpg
END:VEVENT
END:VCALENDAR