BEGIN:VCALENDAR
VERSION:2.0
PRODID:-//ISSPP e.V. - ECPv6.15.20//NONSGML v1.0//EN
CALSCALE:GREGORIAN
METHOD:PUBLISH
X-ORIGINAL-URL:https://isspp.org
X-WR-CALDESC:Events for ISSPP e.V.
REFRESH-INTERVAL;VALUE=DURATION:PT1H
X-Robots-Tag:noindex
X-PUBLISHED-TTL:PT1H
BEGIN:VTIMEZONE
TZID:Europe/London
BEGIN:DAYLIGHT
TZOFFSETFROM:+0000
TZOFFSETTO:+0100
TZNAME:BST
DTSTART:20200329T010000
END:DAYLIGHT
BEGIN:STANDARD
TZOFFSETFROM:+0100
TZOFFSETTO:+0000
TZNAME:GMT
DTSTART:20201025T010000
END:STANDARD
BEGIN:DAYLIGHT
TZOFFSETFROM:+0000
TZOFFSETTO:+0100
TZNAME:BST
DTSTART:20210328T010000
END:DAYLIGHT
BEGIN:STANDARD
TZOFFSETFROM:+0100
TZOFFSETTO:+0000
TZNAME:GMT
DTSTART:20211031T010000
END:STANDARD
BEGIN:DAYLIGHT
TZOFFSETFROM:+0000
TZOFFSETTO:+0100
TZNAME:BST
DTSTART:20220327T010000
END:DAYLIGHT
BEGIN:STANDARD
TZOFFSETFROM:+0100
TZOFFSETTO:+0000
TZNAME:GMT
DTSTART:20221030T010000
END:STANDARD
END:VTIMEZONE
BEGIN:VEVENT
DTSTART;VALUE=DATE:20211202
DTEND;VALUE=DATE:20211204
DTSTAMP:20260421T160543
CREATED:20200313T152537Z
LAST-MODIFIED:20210830T114801Z
UID:1593-1638403200-1638575999@isspp.org
SUMMARY:Fourth Scandinavian PIPAC Workshop in Odense\, Denmark\, on Dec 2-3rd\, 2021
DESCRIPTION:Odense PIPAC Center\, HPB & Upper GI Section\, Department of GI Surgery\, University of Southern Denmark\, Odense University Hospital\, Denmark\, will organize a PIPAC training course on December 2-3\, 2021. \nThe Fourth Scandinavian PIPAC Workshop is certified by ISSPP and will be hosted by Professor Michael Bau Mortensen and Martin Graversen\, MD PhD. Objectives are to learn the indications\, the technique\, and the occupational safety aspects of the procedure. There will be dry lab training and live demonstrations at the OR. At the end of the course\, the participants will be able to start a PIPAC program at their own institution.Professor Wim Ceelen\, Ghent University Hospital\, is part of the invited faculty \nMore information will be available on our website soon.  For inscription\, please contact Mrs. Jette Bang Hedelund – Jette.Bang.Hedelund@rsyd.dk \n  \n 
URL:https://isspp.org/event/1593/
CATEGORIES:course
ATTACH;FMTTYPE=image/jpeg:https://isspp.org/wp-content/uploads/2020/03/AdobeStock_23072845-scaled.jpeg
END:VEVENT
END:VCALENDAR