BEGIN:VCALENDAR
VERSION:2.0
PRODID:-//ISSPP e.V. - ECPv6.15.20//NONSGML v1.0//EN
CALSCALE:GREGORIAN
METHOD:PUBLISH
X-WR-CALNAME:ISSPP e.V.
X-ORIGINAL-URL:https://isspp.org
X-WR-CALDESC:Events for ISSPP e.V.
REFRESH-INTERVAL;VALUE=DURATION:PT1H
X-Robots-Tag:noindex
X-PUBLISHED-TTL:PT1H
BEGIN:VTIMEZONE
TZID:Europe/London
BEGIN:DAYLIGHT
TZOFFSETFROM:+0000
TZOFFSETTO:+0100
TZNAME:BST
DTSTART:20220327T010000
END:DAYLIGHT
BEGIN:STANDARD
TZOFFSETFROM:+0100
TZOFFSETTO:+0000
TZNAME:GMT
DTSTART:20221030T010000
END:STANDARD
BEGIN:DAYLIGHT
TZOFFSETFROM:+0000
TZOFFSETTO:+0100
TZNAME:BST
DTSTART:20230326T010000
END:DAYLIGHT
BEGIN:STANDARD
TZOFFSETFROM:+0100
TZOFFSETTO:+0000
TZNAME:GMT
DTSTART:20231029T010000
END:STANDARD
BEGIN:DAYLIGHT
TZOFFSETFROM:+0000
TZOFFSETTO:+0100
TZNAME:BST
DTSTART:20240331T010000
END:DAYLIGHT
BEGIN:STANDARD
TZOFFSETFROM:+0100
TZOFFSETTO:+0000
TZNAME:GMT
DTSTART:20241027T010000
END:STANDARD
END:VTIMEZONE
BEGIN:VEVENT
DTSTART;TZID=Europe/London:20230710T000000
DTEND;TZID=Europe/London:20230712T235959
DTSTAMP:20260421T112412
CREATED:20230322T111518Z
LAST-MODIFIED:20230322T112512Z
UID:3646-1688947200-1689206399@isspp.org
SUMMARY:Comprehensive Management of Peritoneal Surface Malignancy Workshop and PIPAC Course
DESCRIPTION:More details at our website www.spsoconference.org
URL:https://isspp.org/event/comprehensive-management-of-peritoneal-surface-malignancy-workshop-and-pipac-course/
CATEGORIES:course
ATTACH;FMTTYPE=image/jpeg:https://isspp.org/wp-content/uploads/2019/07/Singapore-1200x675-e1582097940821.jpg
END:VEVENT
END:VCALENDAR