BEGIN:VCALENDAR
VERSION:2.0
PRODID:-//ISSPP e.V. - ECPv6.15.20//NONSGML v1.0//EN
CALSCALE:GREGORIAN
METHOD:PUBLISH
X-ORIGINAL-URL:https://isspp.org
X-WR-CALDESC:Events for ISSPP e.V.
REFRESH-INTERVAL;VALUE=DURATION:PT1H
X-Robots-Tag:noindex
X-PUBLISHED-TTL:PT1H
BEGIN:VTIMEZONE
TZID:Europe/London
BEGIN:DAYLIGHT
TZOFFSETFROM:+0000
TZOFFSETTO:+0100
TZNAME:BST
DTSTART:20230326T010000
END:DAYLIGHT
BEGIN:STANDARD
TZOFFSETFROM:+0100
TZOFFSETTO:+0000
TZNAME:GMT
DTSTART:20231029T010000
END:STANDARD
BEGIN:DAYLIGHT
TZOFFSETFROM:+0000
TZOFFSETTO:+0100
TZNAME:BST
DTSTART:20240331T010000
END:DAYLIGHT
BEGIN:STANDARD
TZOFFSETFROM:+0100
TZOFFSETTO:+0000
TZNAME:GMT
DTSTART:20241027T010000
END:STANDARD
BEGIN:DAYLIGHT
TZOFFSETFROM:+0000
TZOFFSETTO:+0100
TZNAME:BST
DTSTART:20250330T010000
END:DAYLIGHT
BEGIN:STANDARD
TZOFFSETFROM:+0100
TZOFFSETTO:+0000
TZNAME:GMT
DTSTART:20251026T010000
END:STANDARD
END:VTIMEZONE
BEGIN:VEVENT
DTSTART;TZID=Europe/London:20240321T150000
DTEND;TZID=Europe/London:20240321T150000
DTSTAMP:20260421T205410
CREATED:20240321T110237Z
LAST-MODIFIED:20240321T111057Z
UID:3729-1711033200-1711033200@isspp.org
SUMMARY:A Distinct Peritoneal Immune TME: Implications on Current and Future Therapeutic Strategies
DESCRIPTION:
URL:https://isspp.org/event/a-distinct-peritoneal-immune-tme-implications-on-current-and-future-therapeutic-strategies/
CATEGORIES:course
ATTACH;FMTTYPE=image/jpeg:https://isspp.org/wp-content/uploads/2024/03/isspp-webinar-peritoneal-tme-2024-03-21-quer.jpg
END:VEVENT
END:VCALENDAR