BEGIN:VCALENDAR
VERSION:2.0
PRODID:-//ISSPP e.V. - ECPv6.15.20//NONSGML v1.0//EN
CALSCALE:GREGORIAN
METHOD:PUBLISH
X-WR-CALNAME:ISSPP e.V.
X-ORIGINAL-URL:https://isspp.org
X-WR-CALDESC:Events for ISSPP e.V.
REFRESH-INTERVAL;VALUE=DURATION:PT1H
X-Robots-Tag:noindex
X-PUBLISHED-TTL:PT1H
BEGIN:VTIMEZONE
TZID:Europe/London
BEGIN:DAYLIGHT
TZOFFSETFROM:+0000
TZOFFSETTO:+0100
TZNAME:BST
DTSTART:20180325T010000
END:DAYLIGHT
BEGIN:STANDARD
TZOFFSETFROM:+0100
TZOFFSETTO:+0000
TZNAME:GMT
DTSTART:20181028T010000
END:STANDARD
BEGIN:DAYLIGHT
TZOFFSETFROM:+0000
TZOFFSETTO:+0100
TZNAME:BST
DTSTART:20190331T010000
END:DAYLIGHT
BEGIN:STANDARD
TZOFFSETFROM:+0100
TZOFFSETTO:+0000
TZNAME:GMT
DTSTART:20191027T010000
END:STANDARD
BEGIN:DAYLIGHT
TZOFFSETFROM:+0000
TZOFFSETTO:+0100
TZNAME:BST
DTSTART:20200329T010000
END:DAYLIGHT
BEGIN:STANDARD
TZOFFSETFROM:+0100
TZOFFSETTO:+0000
TZNAME:GMT
DTSTART:20201025T010000
END:STANDARD
BEGIN:DAYLIGHT
TZOFFSETFROM:+0000
TZOFFSETTO:+0100
TZNAME:BST
DTSTART:20210328T010000
END:DAYLIGHT
BEGIN:STANDARD
TZOFFSETFROM:+0100
TZOFFSETTO:+0000
TZNAME:GMT
DTSTART:20211031T010000
END:STANDARD
END:VTIMEZONE
BEGIN:VEVENT
DTSTART;TZID=Europe/London:20200229T170000
DTEND;TZID=Europe/London:20200306T120000
DTSTAMP:20260421T013243
CREATED:20190722T134336Z
LAST-MODIFIED:20191111T121439Z
UID:215-1582995600-1583496000@isspp.org
SUMMARY:PIPAC train the trainer course 2020
DESCRIPTION:Prof. Martin Hübner from the University of Lausanne\, Switzerland\, and Prof. Martin Bau Mortensen from University Odense\, Denmark\, organize from Feb 29th to March 6th the 2nd PIPAC train the trainer course in Marrakech\, Marocco. The course is endorsed by ISSPP. Participation only on invitation of the organizers. \nPhoto credit: © Maurizio De Mattei – stock.adobe.com
URL:https://isspp.org/event/course-2/
CATEGORIES:course
ATTACH;FMTTYPE=image/jpeg:https://isspp.org/wp-content/uploads/2019/11/Marrakesh-1200x675.jpg
END:VEVENT
BEGIN:VEVENT
DTSTART;VALUE=DATE:20200118
DTEND;VALUE=DATE:20200119
DTSTAMP:20260421T013243
CREATED:20191107T132902Z
LAST-MODIFIED:20191111T121518Z
UID:1122-1579305600-1579391999@isspp.org
SUMMARY:One-day PIPAC Seminar Tessaloniki (Greece)
DESCRIPTION:On January 20th\, 2020\, a one-day PIPAC seminar is organized in Tessalonik\, Greece. \nRead more \nPhoto credit: © anastasios71 – stock.adobe.com
URL:https://isspp.org/event/one-day-pipac-seminar-tessaloniki-greece/
CATEGORIES:congress
ATTACH;FMTTYPE=image/jpeg:https://isspp.org/wp-content/uploads/2019/11/Thessaloniki-1200x675.jpg
END:VEVENT
BEGIN:VEVENT
DTSTART;TZID=Europe/London:20191206T080000
DTEND;TZID=Europe/London:20191207T170000
DTSTAMP:20260421T013243
CREATED:20190722T134222Z
LAST-MODIFIED:20191111T121558Z
UID:213-1575619200-1575738000@isspp.org
SUMMARY:PIPAC workshop in Rome
DESCRIPTION:The team of the Catholic University of the Sacred Heart in Rome\, Italy\, organizes its 3rd PIPAC training course on Dec. 5-6th\, 2019. The course is endorsed by ISSPP. \nRead more  \nPhoto cedit: © Mapics – stock.adobe.com
URL:https://isspp.org/event/course-1/
CATEGORIES:course
ATTACH;FMTTYPE=image/jpeg:https://isspp.org/wp-content/uploads/2019/07/Rome-1200x675-e1583262194324.jpg
END:VEVENT
BEGIN:VEVENT
DTSTART;VALUE=DATE:20191129
DTEND;VALUE=DATE:20191201
DTSTAMP:20260421T013243
CREATED:20190711T110307Z
LAST-MODIFIED:20191111T121946Z
UID:125-1574985600-1575158399@isspp.org
SUMMARY:1er congress of ISSPP
DESCRIPTION:On behalf of the organizing committees\, I would like to cordially invite you to attend the 1st Congress of International Society for the Study of Pleura and Peritoneum which will be held on 29-30 November 2019 in Singapore. The Congress covers a wide range of topics including the latest treatment and research for peritoneal and pleural diseases. We have invited many world-renowned speakers. In addition\, there are free paper sessions and hands-on workshops such as Pressurized Intraperitoneal Aerosol Chemotherapy (PIPAC) and Pleuroscopy. \nphoto credits: © Melinda Nagy – stock.adobe.com
URL:https://isspp.org/event/1er-congress-of-isspp/
LOCATION:National University Hospital\, NUH\, 5 Lower Kent Ridge Rd\, Signapur\, 119074
CATEGORIES:congress
ATTACH;FMTTYPE=image/jpeg:https://isspp.org/wp-content/uploads/2019/07/Singapore-1200x675-e1582097940821.jpg
END:VEVENT
END:VCALENDAR